BEGIN:VCALENDAR
VERSION:2.0
PRODID:-//SVACS - ECPv6.15.1.1//NONSGML v1.0//EN
CALSCALE:GREGORIAN
METHOD:PUBLISH
X-ORIGINAL-URL:https://www.siliconvalleyacs.org
X-WR-CALDESC:Events for SVACS
REFRESH-INTERVAL;VALUE=DURATION:PT1H
X-Robots-Tag:noindex
X-PUBLISHED-TTL:PT1H
BEGIN:VTIMEZONE
TZID:America/Los_Angeles
BEGIN:DAYLIGHT
TZOFFSETFROM:-0800
TZOFFSETTO:-0700
TZNAME:PDT
DTSTART:20230312T100000
END:DAYLIGHT
BEGIN:STANDARD
TZOFFSETFROM:-0700
TZOFFSETTO:-0800
TZNAME:PST
DTSTART:20231105T090000
END:STANDARD
END:VTIMEZONE
BEGIN:VEVENT
DTSTART;TZID=America/Los_Angeles:20230301T100000
DTEND;TZID=America/Los_Angeles:20230301T110000
DTSTAMP:20260425T050920
CREATED:20230214T222940Z
LAST-MODIFIED:20230214T222940Z
UID:19659-1677664800-1677668400@www.siliconvalleyacs.org
SUMMARY:Left\, Right or Straight Ahead? Making Smarter Decisions
DESCRIPTION:Sponsored by ACS Webinars and ACS Women Chemists Committee\n11am-Noon\, Online via Zoom\, Free\, Registration required\n\nThe decisions that we make today will determine what we will become\, achieve\, and experience in life. \nElevate your decision-making skills to new heights by joining a distinguished panel of experts including ACS 2022 President Angela Wilson of Michigan State University\, Patent Agent Sofia Santos of Cooley LLP\, and Assistant Scientist Sanja Tepavcevic of Argonne National Laboratory as they share their personal anecdotes and insightful strategies for making better decisions when the stakes are high. Don’t miss this opportunity to discover the key habits and tips that will make you more resilient. Register now to take the first step towards your brighter future. \nThis is ACS Webinar is moderated by Research Scientist\, Danniebelle Haase of Dow\, Inc.\, organized by Anna Sromek\, Lorena Tribe\, and Stephanie Davis\, and co-produced with the ACS Women Chemists Committee. \n\n\n\n\nWhat You Will Learn\n\nWhat is self-awareness and how is it key to making smarter decisions\nWhat is the relationship between decision quality and decision fatigue\nWhat are effective methods to avoid common decision making pitfalls\n\n\n\n\n\n\n\nWebinar Details\n\nWednesday\, March 1\, 2023 @ 2-3pm ET\nFree to Register with ACS ID\nThe slides will available for download on the day of the event\n\n\n\n\n\n\n\nCo-Producer\n\n\n\n\n\n\n\n\n\n\n\n\n\nACS Women Chemists Committee
URL:https://www.siliconvalleyacs.org/event/left-right-or-straight-ahead-making-smarter-decisions/
LOCATION:Virtual
CATEGORIES:ACS Webinars
ATTACH;FMTTYPE=image/jpeg:https://www.siliconvalleyacs.org/wp-content/uploads/2023/02/ACS-Webinar-Right-Left-or-Straight-Ahead.jpg
END:VEVENT
BEGIN:VEVENT
DTSTART;TZID=America/Los_Angeles:20230309T093000
DTEND;TZID=America/Los_Angeles:20230309T110000
DTSTAMP:20260425T050920
CREATED:20230214T223801Z
LAST-MODIFIED:20230214T223857Z
UID:19662-1678354200-1678359600@www.siliconvalleyacs.org
SUMMARY:Nature’s Lipid Nanoparticles: Exosomes in Drug Delivery and Therapeutics
DESCRIPTION:Sponsored by ACS Webinars and CAS\n11am-Noon\, Online via Zoom\, Free\, Registration required\n\nExosomes have emerged as one of the most recent promising platforms for drug delivery and therapeutics for a wide range of diseases. Their distinctive properties such as innate stability\, low immunogenicity\, biocompatibility\, and excellent tissue or cell penetration capabilities allow them to function as superior natural nanoparticles. \nDon’t miss the opportunity to join a panel of industry experts\, including Information Scientist Janet Sasso of CAS\, Faculty Member Atta Behfar of the Mayo Clinic\, Chief Technology Officer and Owner Tim Moseley of Direct Biologics\, and Co-Founder and Chief Scientific Officer Steven Stice of Aruna Bio to discover the progress in scientific research in the field. Register now to get up-to-date information on the current advancement of clinical applications in cardiovascular\, neurological\, and lung diseases\, as well as the obstacles that need to be addressed. \nThis ACS Webinar is moderated by Program Manager Qiongqiong Angela Zhou at CAS and co-produced with CAS\, a division of the American Chemical Society. \n\n\n\nWhat You Will Learn\n\nThe current state of exosome scientific research\, therapeutic potential\, and key players\nAdvantages and challenges of exosomes in drug delivery and therapeutics\nNoteworthy examples of exosome application in drug delivery and therapeutics by industry experts\n\n\n\n\n\n\n\nWebinar Details\n\nThursday\, March 9\, 2023 @ 2-3:15 pm ET\nFree to Register with ACS ID\nThe slides will available for download on the day of the event\n\nCo-Producer\n\nCAS
URL:https://www.siliconvalleyacs.org/event/natures-lipid-nanoparticles-exosomes-in-drug-delivery-and-therapeutics/
LOCATION:Virtual
CATEGORIES:ACS Webinars
ATTACH;FMTTYPE=image/jpeg:https://www.siliconvalleyacs.org/wp-content/uploads/2023/02/ACS-Webinar-Natures-Lipid-Nanoparticles.jpg
END:VEVENT
BEGIN:VEVENT
DTSTART;TZID=America/Los_Angeles:20230315T110000
DTEND;TZID=America/Los_Angeles:20230315T120000
DTSTAMP:20260425T050920
CREATED:20230304T084035Z
LAST-MODIFIED:20230304T084035Z
UID:19784-1678878000-1678881600@www.siliconvalleyacs.org
SUMMARY:Successful Transitions: Strategies for Adapting to a New Role
DESCRIPTION:Sponsored by ACS Webinars and ACS Younger Chemists Committee\n11am-Noon\, Online via Zoom\, Free\, Registration required\n\nTransitioning to a new position can be exciting and a bit daunting\, but with a solid framework in place\, you can grow into your new role gracefully. \nJoin Melanie A. Hutnick\, Associate Director of Advanced Materials at The Estee Lauder Companies\, Inc.\, Jennifer Schmitt\, Senior Scientist at Sutro Biopharma\, Patrick W. Fedick\, Research Chemist\, Naval Air Warfare Center Weapons Division\, James Eujin Park\, R&D Systems Engineer at Sandia National Laboratories\, and Katie Johnson\, R&D Associate at Oak Ridge National Laboratory as they provide insight and strategies on how to adapt one’s mindset and working habits to those well-suited to new research and employment\, whether you are starting your first job out of graduate school or a veteran scientist moving to a new career opportunity! \nThis ACS Webinar is moderated by Marisa Sanders\, Registered Patent Agent and J.D. Candidate at Seton Hall University School of Law and Ashley Blystone\, Research Specialist at the University of Illinois Urbana-Champaign and is co-produced with the ACS Younger Chemists Committee and the ACS Committee on Ethics. \n\n\n\nWhat You Will Learn\n\nHow to adjust to new roles within your job\nHow to achieve a work-life balance and set realistic boundaries\nTime management tips and how to manage deadlines\n\n\n\n\n\n\n\nWebinar Details\n\nWednesday\, March 15\, 2023 @ 2-3pm ET\nFree to Register with ACS ID\nThe slides will available for download on the day of the event
URL:https://www.siliconvalleyacs.org/event/successful-transitions-strategies-for-adapting-to-a-new-role/
LOCATION:Virtual
CATEGORIES:ACS Webinars
ATTACH;FMTTYPE=image/jpeg:https://www.siliconvalleyacs.org/wp-content/uploads/2023/03/Successful-Transitions-webinar.jpg
END:VEVENT
BEGIN:VEVENT
DTSTART;TZID=America/Los_Angeles:20230316T110000
DTEND;TZID=America/Los_Angeles:20230316T120000
DTSTAMP:20260425T050920
CREATED:20230304T084752Z
LAST-MODIFIED:20230304T084752Z
UID:19787-1678964400-1678968000@www.siliconvalleyacs.org
SUMMARY:Toxicology 101: Chemicals and their Toxic Effects
DESCRIPTION:Sponsored by ACS Webinars and ACS Office of Career and Professional Education\n11am-Noon\, Online via Zoom\, Free\, Registration required\n\nChemical exposures can be potentially harmful so it is important to be cognizant of the exposure factors that are instrumental in the severity of toxic outcomes following these exposures. Whether you are running an experiment in the lab or simply cleaning your bathroom\, we should all be aware of health risks from exposures to the many types of chemical substances. \nJoin Philip Leber\, long time Human and Ecological Toxicology Instructor for the American Chemical Society\, as he teaches you the essentials of toxicology\, including how to understand toxicity data and effectively communicate human health risk information associated with chemical exposures. \nThis ACS Webinar is moderated by Bryan Tweedy of the American Chemical Society and co-produced with the Office of Career and Professional Education at ACS. \n\n\n\nWhat You Will Learn\n\nThe basics of toxicokinetics\, chemical metabolism\, categories of toxicity\, and mechanisms of toxic action that are important to hazard evaluations of chemicals\nThe fundamental steps for deriving and communicating critical information that is key to projecting human health risks from chemical exposures\nReal Life examples of the actual means for developing and understanding health data needed to assess potentials from chemical exposures\n\n\n\n\n\n\n\nWebinar Details\n\nThrusday\, March 16\, 2023 @ 2-3pm ET\nFree to Register with ACS ID\nThe slides will available for download on the day of the event\n\n\n\n\nCo-Producer\n\n\n\n\n\n\n\n\n\n\n\n\nACS Office of Career and Professional Education
URL:https://www.siliconvalleyacs.org/event/toxicology-101-chemicals-and-their-toxic-effects/
LOCATION:Virtual
CATEGORIES:ACS Webinars
ATTACH;FMTTYPE=image/jpeg:https://www.siliconvalleyacs.org/wp-content/uploads/2023/03/Toxicology-101-webinar.jpg
END:VEVENT
BEGIN:VEVENT
DTSTART;TZID=America/Los_Angeles:20230323T100000
DTEND;TZID=America/Los_Angeles:20230323T110000
DTSTAMP:20260425T050920
CREATED:20230214T224516Z
LAST-MODIFIED:20230214T224516Z
UID:19665-1679565600-1679569200@www.siliconvalleyacs.org
SUMMARY:How Artificial Intelligence is Changing Drug Discovery
DESCRIPTION:Sponsored by ACS Webinars and Science History Institute\n10-11am\, Online via Zoom\, Free\, Registration required\n\nDrug discovery has always been a complex and multi-faceted process that requires the integration of various disciplines such as biology\, chemistry\, and computer science. Today Artificial Intelligence is revolutionizing the way we discover and develop drugs\, opening up new possibilities and unlocking insights that were once out of reach. Empowering us to see the invisible and make connections that were previously unknowable. \nJoin CEO Robert T. Foster and Senior VP Patrick R. Mayo of Hepion Pharmaceuticals Inc. and CEO\, President\, and Director Panna Sharma of Lantern Pharma\, Inc. as they discuss the forefront of how AI is impacting drug discovery. \nThis ACS Webinar is co-produced with The Joseph Priestley Society at the Science History Institute and is moderated by Founder\, President\, and CEO Maria L. Maccecchini Annovis Bio and Partner Bill Tuszynski of The Unami Group\, LLC. \nThe Joseph Priestley Society at the Science History Institute invites monthly speakers who are leaders from a wide variety of chemical and life science companies to promote a deeper understanding of science\, technology\, and industry. This year\, ACS Webinars is excited to once again invite select presenters from the Joseph Priestly Society monthly series to increase our awareness of new technology from related fields that will impact the work we do as chemists. \n\n\n\nWhat You Will Learn\n\nA current perspective of the artificial intelligence landscape and an what may lie ahead\nHow machine learning and other technologies will speed up the search for new drugs\, make them cheaper\, and more effective\nHow automation has the potential to greatly accelerate the drug discovery process\, increase the efficiency of research\, and ultimately lead to the development of new and more effective therapies for patients\n\n\n\n\n\n\nWebinar Details\n\nWednesday\, March 23\, 2022 @ 1-2pm ET\nFree to Register with ACS ID\nThe slides will available for download on the day of the event\n\nCo-Producer\n\nScience History Institute
URL:https://www.siliconvalleyacs.org/event/how-artificial-intelligence-is-changing-drug-discovery/
LOCATION:Virtual
CATEGORIES:ACS Webinars
ATTACH;FMTTYPE=image/jpeg:https://www.siliconvalleyacs.org/wp-content/uploads/2023/02/ACS-Webinar-How-AI-is-Changing-Drug-Discovery.jpg
END:VEVENT
END:VCALENDAR