BEGIN:VCALENDAR
VERSION:2.0
PRODID:-//SVACS - ECPv6.15.1.1//NONSGML v1.0//EN
CALSCALE:GREGORIAN
METHOD:PUBLISH
X-WR-CALNAME:SVACS
X-ORIGINAL-URL:https://www.siliconvalleyacs.org
X-WR-CALDESC:Events for SVACS
REFRESH-INTERVAL;VALUE=DURATION:PT1H
X-Robots-Tag:noindex
X-PUBLISHED-TTL:PT1H
BEGIN:VTIMEZONE
TZID:America/Los_Angeles
BEGIN:DAYLIGHT
TZOFFSETFROM:-0800
TZOFFSETTO:-0700
TZNAME:PDT
DTSTART:20220313T100000
END:DAYLIGHT
BEGIN:STANDARD
TZOFFSETFROM:-0700
TZOFFSETTO:-0800
TZNAME:PST
DTSTART:20221106T090000
END:STANDARD
END:VTIMEZONE
BEGIN:VEVENT
DTSTART;TZID=America/Los_Angeles:20221116T100000
DTEND;TZID=America/Los_Angeles:20221116T110000
DTSTAMP:20260425T103715
CREATED:20221104T205755Z
LAST-MODIFIED:20221104T205755Z
UID:19330-1668592800-1668596400@www.siliconvalleyacs.org
SUMMARY:More Than an Oil Change: Industrial Lubricants and Electric Vehicle
DESCRIPTION:Neil Canter\, Tech Advisor\, Society of Tribologists and Lubrication Engineers (STLE)\nSponsored by ACS Webinars and ACS Green Chemistry Institute\nNovember 16th\, 11am-Noon\, Online via Zoom\, Free\, Registration required\n\nThe move from internal combustion engines (ICE) to battery powered electric vehicles (EV) will not just reduce our reliance on automotive lubricants like motor oil\, but also affect the use of industrial lubricants required for manufacturing EVs and other more sustainable propulsion systems. \nJoin Neil Canter\, Tech Advisor for the Society of Tribologists and Lubrication Engineers\, as he discusses why EVs require less lubricants for both manufacturing and maintenance and indicates that the chemical industry will need to adapt to a decrease in demand for motor oil and other lubricants commonly used in the manufacture of ICE vehicles. \nThis ACS Webinar is moderated by David Constable\, Science Director of the Green Chemistry Institute at ACS and is co-produced with the ACS Green Chemistry Institute. \nWhat You Will Learn\n\n\n\nWhy battery electric vehicles are more efficient and generate fewer emissions than internal combustion engine powered vehicles\nWhy battery electric vehicles require fewer parts simplifying their manufacture\nHow the chemical industry can adapt to reduced demand for industrial lubricants from the automotive industry\n\nWebinar Details\n\n\n\n\n\nWednesday\, November 16\, 2022 @ 2-3pm ET\nFree to Register with ACS ID\nThe slides will available for download on the day of the event\n\nCo-Producer\n\n\n\n\n\nACS Green Chemistry Institute
URL:https://www.siliconvalleyacs.org/event/more-than-an-oil-change-industrial-lubricants-and-electric-vehicle/
LOCATION:Virtual
CATEGORIES:ACS Webinars
ATTACH;FMTTYPE=image/jpeg:https://www.siliconvalleyacs.org/wp-content/uploads/2022/11/More-than-an-oil-change-webinar.jpg
END:VEVENT
BEGIN:VEVENT
DTSTART;TZID=America/Los_Angeles:20221118T090000
DTEND;TZID=America/Los_Angeles:20221118T103000
DTSTAMP:20260425T103715
CREATED:20221104T213649Z
LAST-MODIFIED:20221104T213649Z
UID:19347-1668762000-1668767400@www.siliconvalleyacs.org
SUMMARY:Chemistry Tools to Help Achieve Zero World Hunger
DESCRIPTION:Michael Appell\, U.S. Department of Agriculture; Omowunmi “Wunmi” Sadik\, Chemistry and Environmental Sciences Dept.\, New Jersey Institutes of Technology\nSponsored by ACS Webinars\, ACS Committee on Science\, ACS Agricultural & Food Chemistry Division\nNovember 18th\, 10:00am-11:30am\, Online via Zoom\, Free\, Registration required\n\nWithout a profound change in the global food and agriculture system\, the world is not on track to achieve the United Nation’s goal of Zero Hunger by 2030\, which aims to nourish the more than 690 million people who are hungry today. To feed the almost 10% of the world population suffering from starvation\, we must safely increase agricultural productivity and sustainable food production with innovative cutting-edge technology. \nJoin us for the second Frontier Friday broadcast of 2022 as Research Chemist\, Michael Appell of the U.S. Department of Agriculture discusses recent computational approaches to designing and synthesizing novel food protection against mycotoxins and Distinguished Professor and Chair\, Omowunmi “Wunmi” Sadik of the New Jersey Institutes of Technology discusses advances in ChemBiosensors and Sustainable Nanotechnology that combat plant based pathogenic microbes. \nThis ACS Webinar is moderated by past ACS President H.N. Cheng and Mike Morello of ACS ComSci & ACS AGFD and is co-produced with the ACS Committee on Science and the ACS Division of Agricultural and Food Chemistry as part of the 2022 Frontier Fridays series. \n\n\n\nWhat You Will Learn\n\nHow mycotoxins and pathogenic microbes impact the safety of the world’s food supply\nHow novel technology and new methods can detect and reduce exposure to mycotoxins and pathogenic microbes in food and beverages\nHow a combination of nanotechnology\, analytical chemistry\, predictive modeling\, and materials science are being used to combat food contamination\n\n\n\n\n\n\n\nWebinar Details\n\nFriday\, November 18\, 2022 @ 1-2:30pm ET\nFree to Register with ACS ID\nSlides will be available to download on the day of the webinar
URL:https://www.siliconvalleyacs.org/event/chemistry-tools-to-help-achieve-zero-world-hunger/
LOCATION:Virtual
CATEGORIES:ACS Webinars
ATTACH;FMTTYPE=image/jpeg:https://www.siliconvalleyacs.org/wp-content/uploads/2022/11/Chemistry-tools-to-help-achieve-zero-world-hunger.jpg
END:VEVENT
END:VCALENDAR