BEGIN:VCALENDAR
VERSION:2.0
PRODID:-//SVACS - ECPv6.15.1.1//NONSGML v1.0//EN
CALSCALE:GREGORIAN
METHOD:PUBLISH
X-ORIGINAL-URL:https://www.siliconvalleyacs.org
X-WR-CALDESC:Events for SVACS
REFRESH-INTERVAL;VALUE=DURATION:PT1H
X-Robots-Tag:noindex
X-PUBLISHED-TTL:PT1H
BEGIN:VTIMEZONE
TZID:America/Los_Angeles
BEGIN:DAYLIGHT
TZOFFSETFROM:-0800
TZOFFSETTO:-0700
TZNAME:PDT
DTSTART:20220313T100000
END:DAYLIGHT
BEGIN:STANDARD
TZOFFSETFROM:-0700
TZOFFSETTO:-0800
TZNAME:PST
DTSTART:20221106T090000
END:STANDARD
END:VTIMEZONE
BEGIN:VEVENT
DTSTART;TZID=America/Los_Angeles:20220812T100000
DTEND;TZID=America/Los_Angeles:20220812T113000
DTSTAMP:20260425T142706
CREATED:20220812T003422Z
LAST-MODIFIED:20220812T003955Z
UID:18959-1660298400-1660303800@www.siliconvalleyacs.org
SUMMARY:Frontier Fridays: Putting Sustainable Chemistry to Work in Manufacturing
DESCRIPTION:Prof. Mark Mascal\, University of California at Davis; Prof. Ryan Lively\, Georgia Institute of Technology\nSponsored by ACS Webinars\, ACS Committee on Science\, and ACS Office of Sustainable Development\nAugusts 11\, 10-11:30am\, Online via Zoom\, Free\, Registration required\n\nBuilding a more sustainable future requires research innovations\, but equally important is translating that research into technical solutions for industrial manufacturers where it can have a practical impact. “Frontier Fridays” returns to explore the science that will revolutionize the future of the human race. \nMark Mascal at the University of California Davis (a 2022 EPA Green Chemistry Challenge Award winner) will describe his work with Origin Materials\, Inc. in developing and implementing a novel technology to replace chemicals commonly made from petroleum with products derived from forestry\, agricultural and municipal wastes. This technology could change the environmental impact of the plastics industry\, among others\, by supplying chemical feedstocks that are both net zero-carbon and recyclable. \nModern chemical manufacturing depends upon purification via chemical separations and most industrial separations are achieved with energy-intensive\, thermally driven processes (e.g.\, distillation) that account for 10-15% of global energy usage. Dr. Ryan P. Lively at Georgia Tech will describe how his research team and collaborators developed the first polymeric membranes for crude oil fractionation\, an extremely complex hydrocarbon separation process that is vital to the production of modern fuels and chemicals. This new approach could drastically reduce the energy needed for industrial separations. \nThis ACS Webinar is moderated by Adelina Voutchkova\, Director for Sustainable Development at ACS\, and is co-produced with the ACS Committee on Science and the ACS Office of Sustainable Development as part of the 2022 Frontier Fridays series. \n\n\n\n\n\nWhat You Will Learn\n\nHow biomass waste is being used to make plastics that are net zero-carbon and recyclable\nHow innovative new materials can dramatically reduce energy use for industrial separations processes\nHow innovative scientists are working with industry to put these new discoveries to work for society
URL:https://www.siliconvalleyacs.org/event/frontier-fridays-putting-sustainable-chemistry-to-work-in-manufacturing/
LOCATION:Virtual
CATEGORIES:ACS Webinars
ATTACH;FMTTYPE=image/jpeg:https://www.siliconvalleyacs.org/wp-content/uploads/2022/08/Frontier-Fridays-ACSwebinar.jpg
END:VEVENT
BEGIN:VEVENT
DTSTART;TZID=America/Los_Angeles:20220818T110000
DTEND;TZID=America/Los_Angeles:20220818T120000
DTSTAMP:20260425T142706
CREATED:20220812T005520Z
LAST-MODIFIED:20220812T005520Z
UID:18968-1660820400-1660824000@www.siliconvalleyacs.org
SUMMARY:An Evolutionary Mystery: Mirror Asymmetry in Life and in Space (Rebroadcast)
DESCRIPTION:Brett McGuire\, National Radio Astronomy Observatory; and Ryan Fortenberry\, University of Mississippi\nSponsored by ACS Webinars and ACS Astrochemistry Subdivision\nAugust 18\, 11am-Noon PT\, Online via Zoom\, Free\, Registration required\n\nMost molecules used by life exist in two forms that are mirror images of each other. One of the great unanswered questions in our evolutionary history is why all life on Earth\, and their critical biological molecules like amino acids and proteins\, use only one “hand” of these forms. Sugars are exclusively right-handed\, amino acids are left-handed\, and even DNA coils into right-handed helices. What clues can we glean from molecules in space to discover the possible interstellar origins of this “homochirality?” \nJoin Astrochemist Brett McGuire of currently the McGuire Group at MIT to find out how chemists are using state-of-the-art tools to peer into the center of our galaxy for the answers! \n\n\n\n\n\n\nWhat You Will Learn\n\nWhat is the impact of homochirality on biology and chemical evolution\nWhat are the potential origins of homochirality and what are the challenges in studying possible interstellar origins\nWhat was the first detection of a chiral interstellar molecule and what are the challenges associated with measuring a potential chiral excess in space\n\n\n\n\n\n\n\nWebinar Details\n\nThursday\, August 18\, 2022 @ 2–3pm ET\nFree to Register with ACS ID\nSlides will be available to download on the day of the webinar
URL:https://www.siliconvalleyacs.org/event/an-evolutionary-mystery-mirror-asymmetry-in-life-and-in-space-rebroadcast/
LOCATION:Virtual
CATEGORIES:ACS Webinars
ATTACH;FMTTYPE=image/jpeg:https://www.siliconvalleyacs.org/wp-content/uploads/2022/08/Evolutionary-Mystery-ACSwebinars.jpg
END:VEVENT
BEGIN:VEVENT
DTSTART;TZID=America/Los_Angeles:20220831T110000
DTEND;TZID=America/Los_Angeles:20220831T121500
DTSTAMP:20260425T142706
CREATED:20220812T010241Z
LAST-MODIFIED:20220812T010241Z
UID:18971-1661943600-1661948100@www.siliconvalleyacs.org
SUMMARY:How We Study Molecules in Space: Finding and Analyzing Cosmic Carbon
DESCRIPTION:Prof. Brett A. McGuire\, Massachusetts Institute of Technology; and Prof. Kyle Crabtree\, UC Davis\nSponsored by ACS Webinars and ACS Astrochemistry Subdivision\nAugust 31\, 11am-12:15pm PT\, Online via Zoom\, Free\, Registration required\nSlides will be available to download on the day of the webinar\n\nPolycyclic Aromatic Hydrocarbons (PAHs) are a large reservoir of reactive carbon in the interstellar medium that play a significant role in star and planet formation. These molecules have been observed both in our galaxy and numerous others by NASA telescopes and can even be found on Earth in engine exhaust and the char on a grilled hamburger. But what is the relationship between interstellar PAHs and those found on our planet\, and what can that tell us about the makeup of the universe? \nAstrochemist Brett McGuire of the Massachusetts Institute of Technology led the GOTHAM research collaboration that in 2021 became the first scientists to identify individual molecules of PAHs via radio observations of the Taurus molecular cloud. This breakthrough will enable astrochemists to investigate the detailed chemical pathways for the formation and destruction of these complex molecules\, which until now have only been observed en masse. Register now to discover how we study molecules in space\, why PAHs are important to both interstellar chemistry and understanding the origins of life on Earth\, and what are the current efforts to understand the chemistry of PAHs in the wake of the GOTHAM collaboration’s discovery. \nThis ACS Webinar is moderated by Kyle Crabtree of the University of California\, Davis and is co-produced by the ACS Astrochemistry Subdivision. \n\n\n\n\n\n\nWhat You Will Learn\n\nHow we study molecules in space\, including detections of PAH molecules via their rotational transitions using Green Bank Telescope observations of the Taurus Molecular Cloud (TMC-1) from the GOTHAM collaboration\nWhy Polycyclic Aromatic Hydrocarbons (PAHs) are important to interstellar chemistry\nMethods for studying the chemistry of PAHs from Earth\, including astrochemical models and laboratory spectroscopy
URL:https://www.siliconvalleyacs.org/event/how-we-study-molecules-in-space-finding-and-analyzing-cosmic-carbon/
LOCATION:Virtual
CATEGORIES:ACS Webinars
ATTACH;FMTTYPE=image/jpeg:https://www.siliconvalleyacs.org/wp-content/uploads/2022/08/How-we-study-molecules-in-space-ACSwebinar.jpg
END:VEVENT
END:VCALENDAR