BEGIN:VCALENDAR
VERSION:2.0
PRODID:-//SVACS - ECPv6.15.1.1//NONSGML v1.0//EN
CALSCALE:GREGORIAN
METHOD:PUBLISH
X-WR-CALNAME:SVACS
X-ORIGINAL-URL:https://www.siliconvalleyacs.org
X-WR-CALDESC:Events for SVACS
REFRESH-INTERVAL;VALUE=DURATION:PT1H
X-Robots-Tag:noindex
X-PUBLISHED-TTL:PT1H
BEGIN:VTIMEZONE
TZID:America/Los_Angeles
BEGIN:DAYLIGHT
TZOFFSETFROM:-0800
TZOFFSETTO:-0700
TZNAME:PDT
DTSTART:20220313T100000
END:DAYLIGHT
BEGIN:STANDARD
TZOFFSETFROM:-0700
TZOFFSETTO:-0800
TZNAME:PST
DTSTART:20221106T090000
END:STANDARD
END:VTIMEZONE
BEGIN:VEVENT
DTSTART;TZID=America/Los_Angeles:20220707T110000
DTEND;TZID=America/Los_Angeles:20220707T120000
DTSTAMP:20260425T153725
CREATED:20220701T200805Z
LAST-MODIFIED:20220701T214208Z
UID:18889-1657191600-1657195200@www.siliconvalleyacs.org
SUMMARY:Are Hazardous Chemical Facilities Prepared for More Natural Disasters Due to Climate Change? (ACS Webinar)
DESCRIPTION:Krista Mantsch\, U.S. Government Accountability Office; and Russell Pfifer\, WC Environmental\, LLC.\nJuly 7\, 2022\, 11-Noon\, Online via Zoom\, Free\, Registration required\n\nThere are over 11\,000 facilities across the United States that handle hazardous chemicals\, such as chemical manufacturers and water treatment plants. These facilities face hazards from flooding\, rising sea levels\, storm surges\, wildfires\, and other natural disasters that are increasing in frequency due to climate change. According to the US Government Accountability Office (GAO)\, at least 31% of these facilities are already in areas with increased risk from some of these adverse weather events. However\, the US Environmental Protection Agency does not consistently assess how they are preparing for the next natural disaster. \nJoin Senior Analyst Krista Mantsch from GAO’s Natural Resources and Environment team and the ACS Division of Chemical Health and Safety (CHAS) to learn how chemical facilities can increase their resilience to climate change\, including what to consider when updating their existing Risk Management Plans (RMP). \nThis ACS Webinar is co-produced with the US Government Accountability Office\, ACS Chemical Health & Safety\, and ACS Advocacy.
URL:https://www.siliconvalleyacs.org/event/are-hazardous-chemical-facilities-prepared-for-more-natural-disasters-due-to-climate-change/
LOCATION:Virtual
CATEGORIES:ACS Webinars
ATTACH;FMTTYPE=image/jpeg:https://www.siliconvalleyacs.org/wp-content/uploads/2022/07/ACS-webinar-are-hazardous-facilities-prepared-for-more-natural-disasters.jpg
END:VEVENT
BEGIN:VEVENT
DTSTART;TZID=America/Los_Angeles:20220728T110000
DTEND;TZID=America/Los_Angeles:20220728T120000
DTSTAMP:20260425T153725
CREATED:20220701T214134Z
LAST-MODIFIED:20220701T214134Z
UID:18895-1659006000-1659009600@www.siliconvalleyacs.org
SUMMARY:Starting a Company: How to Set Up Essential Business Contracts (ACS Webinar)
DESCRIPTION:Jim Verdonik\, Innovate Capital\nJuly 28\, 11am-Noon\, Online via Zoom\, Free\, Registration required\n\nDo you want to start a new company based on your research discovery\, a new technology\, or innovative service? Prepare yourself to enter into LOTS of contracts. There are licensing agreements with your university\, shareholder agreements with your co-founders\, conflict-of-interest and conflict-of-commitment agreements\, funding terms and conditions with investors\, employment contracts and many\, many more. \nJoin Professional Corporate and Securities Attorney Jim Verdonik of Innovate Capital as he helps you navigate the intricacies of these various indispensable contracts and prepares you to carefully consider their implications for you and your new company. \nPart 8 of our series on Starting a Company is moderated by Jim Skinner of Terregena Inc. and ACS SCHB and 2015 ACS President Diane Grob Schmidt of the University of Cincinnati. This event will have special introductions from 2021 ACS President H.N. Cheng of the U.S. Department of Agriculture’s Agricultural Research Service and 2022 ACS President Angela Wilson of Michigan State University\, and is co-produced with the ACS Division of Small Chemical Businesses and the ACS Division of Business Development & Management.
URL:https://www.siliconvalleyacs.org/event/starting-a-company-how-to-set-up-essential-business-contracts-acs-webinar/
LOCATION:Virtual
CATEGORIES:ACS Webinars
ATTACH;FMTTYPE=image/jpeg:https://www.siliconvalleyacs.org/wp-content/uploads/2022/07/Starting-a-Company.jpg
END:VEVENT
END:VCALENDAR