BEGIN:VCALENDAR
VERSION:2.0
PRODID:-//SVACS - ECPv6.15.1.1//NONSGML v1.0//EN
CALSCALE:GREGORIAN
METHOD:PUBLISH
X-ORIGINAL-URL:https://www.siliconvalleyacs.org
X-WR-CALDESC:Events for SVACS
REFRESH-INTERVAL;VALUE=DURATION:PT1H
X-Robots-Tag:noindex
X-PUBLISHED-TTL:PT1H
BEGIN:VTIMEZONE
TZID:America/Los_Angeles
BEGIN:DAYLIGHT
TZOFFSETFROM:-0800
TZOFFSETTO:-0700
TZNAME:PDT
DTSTART:20250309T100000
END:DAYLIGHT
BEGIN:STANDARD
TZOFFSETFROM:-0700
TZOFFSETTO:-0800
TZNAME:PST
DTSTART:20251102T090000
END:STANDARD
END:VTIMEZONE
BEGIN:VEVENT
DTSTART;TZID=America/Los_Angeles:20251106T090000
DTEND;TZID=America/Los_Angeles:20251106T223000
DTSTAMP:20260423T211911
CREATED:20251012T121539Z
LAST-MODIFIED:20251012T121539Z
UID:22152-1762419600-1762468200@www.siliconvalleyacs.org
SUMMARY:ACS Virtual Office Hours: Finding and Securing an Internship
DESCRIPTION:Sponsored by ACS Careers \n9:00-10:30 am\, Online\, Free\, Registration required
URL:https://www.siliconvalleyacs.org/event/acs-virtual-office-hours-finding-and-securing-an-internship-2/
LOCATION:Virtual
CATEGORIES:ACS Careers
END:VEVENT
END:VCALENDAR